BEGIN:VCALENDAR
VERSION:2.0
PRODID:-//Department Of Education//4b0e692a-3726-4a36-b19e-06fc3186bea4
BEGIN:VTIMEZONE
TZID:Australia/Sydney
TZURL:http://tzurl.org/zoneinfo-outlook/Australia/Sydney
X-LIC-LOCATION:Australia/Sydney
BEGIN:STANDARD
TZOFFSETFROM:+1100
TZOFFSETTO:+1000
TZNAME:AEST
DTSTART:19700405T030000
RRULE:FREQ=YEARLY;BYMONTH=4;BYDAY=1SU
END:STANDARD
BEGIN:DAYLIGHT
TZOFFSETFROM:+1000
TZOFFSETTO:+1100
TZNAME:AEDT
DTSTART:19701004T020000
RRULE:FREQ=YEARLY;BYMONTH=10;BYDAY=1SU
END:DAYLIGHT
END:VTIMEZONE
CALSCALE:GREGORIAN
X-WR-TIMEZONE:Australia/Sydney
BEGIN:VEVENT
DTSTART;TZID=Australia/Sydney:20200304T110028
DTEND;TZID=Australia/Sydney:20200304T113034
DTSTAMP:20200304T000000Z
UID:ef090b3b-c836-4fd1-a0d2-820b70671ec2
LOCATION:Nillo Infants School
SUMMARY;LANGUAGE=en-us:Special Recess
SEQUENCE:0
DESCRIPTION:Selected parents each month supply cakes, slices or biscuit for children to purchase for 50cent each.
END:VEVENT
TRANSP:TRANSPARENT
END:VCALENDAR
